BEGIN:VCALENDAR
VERSION:2.0
PRODID:-//Stormvogels - ECPv6.15.11//NONSGML v1.0//EN
CALSCALE:GREGORIAN
METHOD:PUBLISH
X-WR-CALNAME:Stormvogels
X-ORIGINAL-URL:https://www.stormvogelsveendam.nl
X-WR-CALDESC:Evenementen voor Stormvogels
REFRESH-INTERVAL;VALUE=DURATION:PT1H
X-Robots-Tag:noindex
X-PUBLISHED-TTL:PT1H
BEGIN:VTIMEZONE
TZID:UTC
BEGIN:STANDARD
TZOFFSETFROM:+0000
TZOFFSETTO:+0000
TZNAME:UTC
DTSTART:20170101T000000
END:STANDARD
END:VTIMEZONE
BEGIN:VEVENT
DTSTART;VALUE=DATE:20260307
DTEND;VALUE=DATE:20260308
DTSTAMP:20260425T200217
CREATED:20260210T224003Z
LAST-MODIFIED:20260210T224213Z
UID:6820-1772841600-1772927999@www.stormvogelsveendam.nl
SUMMARY:Toekomstcup – De Romein Omloop van de Veenkoloniën
DESCRIPTION:1e wedstrijd van de Toekomstcup\, “De Romein Omloop van de Veenkoloniën”\nVoor meer informatie zie hierde-romein-kleine-omloop-van-de-veenkoloniën.
URL:https://www.stormvogelsveendam.nl/kalender/toekomstcup-de-romein-omloop-van-de-veenkolonien/
CATEGORIES:Wedstrijden
END:VEVENT
BEGIN:VEVENT
DTSTART;TZID=UTC:20260104T100000
DTEND;TZID=UTC:20260104T150000
DTSTAMP:20260425T200217
CREATED:20251223T185655Z
LAST-MODIFIED:20251223T194009Z
UID:6783-1767520800-1767538800@www.stormvogelsveendam.nl
SUMMARY:Airolube ICW Noord Wintercompetitie
DESCRIPTION:Zondag 4 januari organiseren de Stormvogels Veendam de 9e ICW wedstrijd van de Airolube ICW Noord Wintercompetitie.\nMet dank aan onze wedstrijdsponsor de Romein\, Specialist in civiele techniek voor leidingbouw & kabelwerken\, kan onze parcoursbouwer zich weer uitleven en een nog een uitdagender parcours in elkaar te steken.\nDe wedstrijden vinden op de gebruikelijke locatie\, recreatiegebied Borgerswold in Veendam plaats. De eerste wedstrijd start om 10:00 uur. \nVoor meer informatie zie ook de KNWU-site en de wedstrijdkalender Noordelijke Wintercompetitie 25/26.
URL:https://www.stormvogelsveendam.nl/kalender/airolube-icw-noord-wintercompetitie-2/
CATEGORIES:Wedstrijden
ATTACH;FMTTYPE=image/jpeg:https://www.stormvogelsveendam.nl/wp-content/uploads/2024/05/MTB_1.jpg
END:VEVENT
BEGIN:VEVENT
DTSTART;TZID=UTC:20250518T100000
DTEND;TZID=UTC:20250518T160000
DTSTAMP:20260425T200217
CREATED:20250501T214124Z
LAST-MODIFIED:20250501T214124Z
UID:6667-1747562400-1747584000@www.stormvogelsveendam.nl
SUMMARY:RJT Zechstein Jeugdronde Veendam
DESCRIPTION:Zondag 18 mei a.s. organiseren de Stormvogels Veendam de RJT Zechstein Jeugdronde Veendam. Op de wielerbaan rondom stadion de Langeleegte rijden deze dag de Cat.1 t/m Cat.7 hun wedstrijd. De wedstijden tellen mee voor de plaatsing van het NK. \nMeer informatie staat hier op de site van de KNWU.
URL:https://www.stormvogelsveendam.nl/kalender/rjt-zechstein-jeugdronde-veendam/
CATEGORIES:Wedstrijden
ATTACH;FMTTYPE=image/jpeg:https://www.stormvogelsveendam.nl/wp-content/uploads/2024/04/Jeugdronde.jpg
END:VEVENT
BEGIN:VEVENT
DTSTART;TZID=UTC:20240714T100000
DTEND;TZID=UTC:20240714T100000
DTSTAMP:20260425T200217
CREATED:20240502T200340Z
LAST-MODIFIED:20240504T112931Z
UID:6375-1720951200-1720951200@www.stormvogelsveendam.nl
SUMMARY:ICW Zomercompetitie 2024
DESCRIPTION:Zondag 14 juli organiseren de Stormvogels de 4e wedstrijd in de reeks van de Airolube MTB Zomer Cup Noord 2024 in het recreatiegebied Borgerswold. \nNa de nieuwe indeling van districten naar regio’s is de website van de KNWU Noord niet meer online. Op de website “debuikvanhetpeloton.nl” kan je hier informatie vinden over de Airlube MTB Zomer Cup Noord 2024.
URL:https://www.stormvogelsveendam.nl/kalender/icw-zomercompetitie-2024/
CATEGORIES:Wedstrijden
ATTACH;FMTTYPE=image/jpeg:https://www.stormvogelsveendam.nl/wp-content/uploads/2022/08/Atb.jpg
END:VEVENT
BEGIN:VEVENT
DTSTART;TZID=UTC:20240519T103000
DTEND;TZID=UTC:20240519T150000
DTSTAMP:20260425T200217
CREATED:20240426T192811Z
LAST-MODIFIED:20240504T113238Z
UID:6271-1716114600-1716130800@www.stormvogelsveendam.nl
SUMMARY:Zechstein_Jeugdronde_Veendam_en RK_Noord
DESCRIPTION:Op 19 mei 2024 organiseren de Stormvogels Veendam de Zechstein Jeugdronde Veendam. Tevens wordt deze dag het RK(Regio Kampioenschap) Noord georganiseerd.\nDe wedstrijden worden gehouden op de wielerbaan op Sportpark de LangeLeegte. \nMeer informatie kunt u hier vinden. \nHoofdlocatie\nLangeleegte 16\nWielerarena Langeleegte\n9641GN Veendam
URL:https://www.stormvogelsveendam.nl/kalender/zechstein_jeugdronde_veendam_en-dk_noord/
CATEGORIES:Wedstrijden
ATTACH;FMTTYPE=image/jpeg:https://www.stormvogelsveendam.nl/wp-content/uploads/2024/05/Race_Jeugd_8.jpg
END:VEVENT
BEGIN:VEVENT
DTSTART;TZID=UTC:20230903T100000
DTEND;TZID=UTC:20230903T150000
DTSTAMP:20260425T200217
CREATED:20230821T204816Z
LAST-MODIFIED:20230821T204816Z
UID:5123-1693735200-1693753200@www.stormvogelsveendam.nl
SUMMARY:Energystock Criterium van de Veenkoloniën
DESCRIPTION:Op 3 september 2023 organiseren de Stormvogels Veendam de ‘Energystock Criterium van de Veenkoloniën’. \nProgramma:\n10:00 uur: Nieuwelingen(M)\, Afstand 50 km.\n10:01 uur: Jeugd Categorie 7(M)\, Afstand 45 km.\n13:00 uur: Junioren (V)\, Afstand 50 km.\n13:00 uur: Nieuwelingen(V)\, Afstand 45 km.\n13:01 uur: Jeugd Cat. 6(V-14 jaar)\, Afstand 40 km. \nLocatie:\nWielerbaan Stadion Langeleegte. \n 
URL:https://www.stormvogelsveendam.nl/kalender/energystock-criterium-van-de-veenkolonien/
CATEGORIES:Wedstrijden
ATTACH;FMTTYPE=image/jpeg:https://www.stormvogelsveendam.nl/wp-content/uploads/2022/07/jeugd.jpg
END:VEVENT
BEGIN:VEVENT
DTSTART;TZID=UTC:20230129T100000
DTEND;TZID=UTC:20230129T150000
DTSTAMP:20260425T200217
CREATED:20221220T225411Z
LAST-MODIFIED:20221220T225411Z
UID:5021-1674986400-1675004400@www.stormvogelsveendam.nl
SUMMARY:ICW Airolube Wintercompetitie
DESCRIPTION:Finaledag ICW Airolube Wintercompetitie in Borgerswold Veendam.
URL:https://www.stormvogelsveendam.nl/kalender/icw-airolube-wintercompetitie/
CATEGORIES:Wedstrijden
END:VEVENT
BEGIN:VEVENT
DTSTART;TZID=UTC:20220710T100000
DTEND;TZID=UTC:20220710T150000
DTSTAMP:20260425T200217
CREATED:20220621T203658Z
LAST-MODIFIED:20220621T203726Z
UID:4820-1657447200-1657465200@www.stormvogelsveendam.nl
SUMMARY:ICW MTB Zomer Cup Noord
DESCRIPTION:4e wedstrijd van de ICW MTB Airolube Zomer Cup Noord.\nLocatie: Borgerswold Veendam\nVoor meer informatie zie de site van KNWU-Noord
URL:https://www.stormvogelsveendam.nl/kalender/icw-mtb-zomer-cup-noord/
CATEGORIES:Wedstrijden
ATTACH;FMTTYPE=image/jpeg:https://www.stormvogelsveendam.nl/wp-content/uploads/2018/10/Borgerswold-Classic-2018-4.jpg
END:VEVENT
BEGIN:VEVENT
DTSTART;TZID=UTC:20220703T093000
DTEND;TZID=UTC:20220703T140000
DTSTAMP:20260425T200217
CREATED:20220623T082828Z
LAST-MODIFIED:20220623T084519Z
UID:4823-1656840600-1656856800@www.stormvogelsveendam.nl
SUMMARY:Ready2Race
DESCRIPTION:Op 3 juli organiseert de Stormvogels Veendam een wedstijd uit het ready2Race programma.\nReady2Race wedstrijden zijn laagdrempelige wedstrijden. Iedereen kan deelnemen op zijn of haar niveau door middel van verschillende klassen waarbij plezier en veiligheid voorop staan. Zo kunnen er dikke Banden Race voor kinderen tot wedstrijden voor beginners en gevorderden vanaf 16 jaar worden georganiseerd.\nEen wedstrijddag bestaat uit meerdere races. Jij schrijft je in voor de wedstrijddag en wij delen je vervolgens in een klasse die bij jouw niveau past. In Veendam wordt een Ready2Race wedstrijd gehouden voor beginners en gevorderden vanaf 16 jaar en worden er 4 klassen gemaakt en een aparte instapklasse voor dames. \nMeer informatie over ready2Race vind je hier.\nMeer informatie over de wedstrijd van 3 juli vind je hier.
URL:https://www.stormvogelsveendam.nl/kalender/ready2race/
CATEGORIES:Wedstrijden
ATTACH;FMTTYPE=image/jpeg:https://www.stormvogelsveendam.nl/wp-content/uploads/2022/06/Ready_to_Race.jpg
END:VEVENT
BEGIN:VEVENT
DTSTART;TZID=UTC:20220522T090000
DTEND;TZID=UTC:20220522T160000
DTSTAMP:20260425T200217
CREATED:20220512T212324Z
LAST-MODIFIED:20220513T105150Z
UID:4662-1653210000-1653235200@www.stormvogelsveendam.nl
SUMMARY:Zechstein Jeugdronde Veendam
DESCRIPTION:ZECHSTEIN Jeugdronde Veendam.\nOp zondag 22 mei wordt de Zechstein jeugdronde van Veendam georganiseerd door de Stormvogels.\nDe wedstrijden zullen worden gereden op de nieuwe wielerbaan op het Sport- en Leerpark de Langeleegte en zijn voor de cat. 1 t/m 7 van de KNWU districten Noord en Oost. \nProgramma 22 mei 2022. \n– 9.00 tot 9.45 uur inrijden voor cat. 1 t/m 4.\n– 10.00 uur wedstrijd voor cat. 1 gevolgd door cat. 2\,3 & 4. \n– 12.00 – 13.00 uur huldiging voor cat. 1 t/m 4 en inrijden cat. 5 t/m 7.\n– 13.00 uur wedstrijd voor cat. 5 gevolgd door 6 & 7.\n– 15.30 uur huldiging voor cat. 5 t/m 7. \nJongens en meiden worden apart gehuldigd.
URL:https://www.stormvogelsveendam.nl/kalender/zechstein-jeugdronde-veendam/
CATEGORIES:Wedstrijden
ATTACH;FMTTYPE=image/png:https://www.stormvogelsveendam.nl/wp-content/uploads/2022/05/Jeugdronde_affiche_Compleet_Groot.png
END:VEVENT
BEGIN:VEVENT
DTSTART;TZID=UTC:20220130T080000
DTEND;TZID=UTC:20220130T170000
DTSTAMP:20260425T200217
CREATED:20211215T205243Z
LAST-MODIFIED:20211215T211807Z
UID:4285-1643529600-1643562000@www.stormvogelsveendam.nl
SUMMARY:ICW Airolube Wintercompetitie KNWU Noord
DESCRIPTION:Wanneer: Zondag 30 januari 2022\nPlaats : Borgerswold\, Veendam\nInfo : Zie hier voor meer informatie.
URL:https://www.stormvogelsveendam.nl/kalender/icw-airolube-wintercompetitie-knwu-noord/
CATEGORIES:Wedstrijden
ATTACH;FMTTYPE=image/jpeg:https://www.stormvogelsveendam.nl/wp-content/uploads/2021/08/MTB-ZomerCup-5-kopie.jpg
END:VEVENT
BEGIN:VEVENT
DTSTART;TZID=UTC:20210822T103000
DTEND;TZID=UTC:20210822T150000
DTSTAMP:20260425T200217
CREATED:20210624T072716Z
LAST-MODIFIED:20210624T074515Z
UID:4146-1629628200-1629644400@www.stormvogelsveendam.nl
SUMMARY:Airolube MTB Zomer Cup KNWU Noord 2021
DESCRIPTION:Wanneer: Zondag 22 augustus 2021\nPlaats : Borgerswold\, Veendam\nInfo   : Zie hier voor meer informatie.
URL:https://www.stormvogelsveendam.nl/kalender/airolube-mtb-zomer-cup-knwu-noord-2021/
CATEGORIES:Wedstrijden
ATTACH;FMTTYPE=image/jpeg:https://www.stormvogelsveendam.nl/wp-content/uploads/2018/10/Borgerswold-Classic-2018-4.jpg
END:VEVENT
BEGIN:VEVENT
DTSTART;TZID=UTC:20200920T110000
DTEND;TZID=UTC:20200920T170000
DTSTAMP:20260425T200217
CREATED:20200111T203652Z
LAST-MODIFIED:20200111T203749Z
UID:3347-1600599600-1600621200@www.stormvogelsveendam.nl
SUMMARY:Zechstein Borgerswold Classic 6 uurs MTB
DESCRIPTION:Zechstein Borgerswold Classic 6 uurs MTB
URL:https://www.stormvogelsveendam.nl/kalender/zechstein-borgerswold-classic-6-uurs-mtb/
CATEGORIES:Wedstrijden
ATTACH;FMTTYPE=image/jpeg:https://www.stormvogelsveendam.nl/wp-content/uploads/2018/10/Borgerswold-Classic-2018-6.jpg
END:VEVENT
BEGIN:VEVENT
DTSTART;TZID=UTC:20200628T100000
DTEND;TZID=UTC:20200628T150000
DTSTAMP:20260425T200217
CREATED:20200317T213932Z
LAST-MODIFIED:20200317T213932Z
UID:3608-1593338400-1593356400@www.stormvogelsveendam.nl
SUMMARY:ICW MTB Zomercup Noord
DESCRIPTION:3e wedstrijd in de reeks van de ICW MTB Zomercup.\nDe wedstrijd wordt gehouden in het recreatiegebied Borgerswold.\nMeer informatie volgt nog via de site van de KNWU Noord.
URL:https://www.stormvogelsveendam.nl/kalender/icw-mtb-zomercup-noord/
CATEGORIES:Wedstrijden
ATTACH;FMTTYPE=image/jpeg:https://www.stormvogelsveendam.nl/wp-content/uploads/2018/10/Borgerswold-Classic-2018-4.jpg
END:VEVENT
BEGIN:VEVENT
DTSTART;VALUE=DATE:20200510
DTEND;VALUE=DATE:20200511
DTSTAMP:20260425T200217
CREATED:20200111T203407Z
LAST-MODIFIED:20200111T203418Z
UID:3344-1589068800-1589155199@www.stormvogelsveendam.nl
SUMMARY:4e EnergyStock jeugdronde van Veendam
DESCRIPTION:4e EnergyStock jeugdronde van Veendam.
URL:https://www.stormvogelsveendam.nl/kalender/4e-energystock-jeugdronde-van-veendam/
CATEGORIES:Wedstrijden
ATTACH;FMTTYPE=image/png:https://www.stormvogelsveendam.nl/wp-content/uploads/2018/05/Toer-thumb.png
END:VEVENT
BEGIN:VEVENT
DTSTART;VALUE=DATE:20200404
DTEND;VALUE=DATE:20200405
DTSTAMP:20260425T200217
CREATED:20200111T202544Z
LAST-MODIFIED:20200317T214511Z
UID:3338-1585958400-1586044799@www.stormvogelsveendam.nl
SUMMARY:33e Grote Omloop van de Veenkolonieën.
DESCRIPTION:Afgelast: 33e Grote Omloop van de Veenkoloniën.
URL:https://www.stormvogelsveendam.nl/kalender/33e-grote-omloop/
CATEGORIES:Wedstrijden
ATTACH;FMTTYPE=image/jpeg:https://www.stormvogelsveendam.nl/wp-content/uploads/2019/07/Grote-Omloop.jpg
END:VEVENT
BEGIN:VEVENT
DTSTART;TZID=UTC:20200105T103000
DTEND;TZID=UTC:20200105T150000
DTSTAMP:20260425T200217
CREATED:20191004T195305Z
LAST-MODIFIED:20191004T195305Z
UID:2314-1578220200-1578236400@www.stormvogelsveendam.nl
SUMMARY:ICW Winter competitie
DESCRIPTION:10e wedstrijd in de ICW Wintercompetitie 2019-2020.\nZie meer informatie https://www.knwunoord.nl/
URL:https://www.stormvogelsveendam.nl/kalender/icw-winter-competitie/
LOCATION:Borgerswold\, Fauna\, Veendam\, Nederland
CATEGORIES:Wedstrijden
ATTACH;FMTTYPE=image/jpeg:https://www.stormvogelsveendam.nl/wp-content/uploads/2018/10/Borgerswold-Classic-2018-4.jpg
END:VEVENT
BEGIN:VEVENT
DTSTART;TZID=UTC:20191120T193000
DTEND;TZID=UTC:20191120T203000
DTSTAMP:20260425T200217
CREATED:20191030T220832Z
LAST-MODIFIED:20191030T221038Z
UID:2512-1574278200-1574281800@www.stormvogelsveendam.nl
SUMMARY:BWC-overleg november
DESCRIPTION:Overleg met de SSPV(Stichting Sport Promotie Veendam) over de Borgerswold Classic 6 uurs race in 2020.\nLocatie: Borgerswold Experience
URL:https://www.stormvogelsveendam.nl/kalender/bwc-overleg-november/
CATEGORIES:Wedstrijden
ATTACH;FMTTYPE=image/jpeg:https://www.stormvogelsveendam.nl/wp-content/uploads/2019/08/borgerswold-6-uur-logo-GOED-f.jpg
END:VEVENT
BEGIN:VEVENT
DTSTART;TZID=UTC:20191120T183000
DTEND;TZID=UTC:20191120T193000
DTSTAMP:20260425T200217
CREATED:20191030T221300Z
LAST-MODIFIED:20191030T221333Z
UID:2514-1574274600-1574278200@www.stormvogelsveendam.nl
SUMMARY:Overleg ICW
DESCRIPTION:Overleg ICW wintercompetitie wedstrijd van 5 januari 2020\nLocatie: borgerswold Experience.
URL:https://www.stormvogelsveendam.nl/kalender/overleg-icw/
CATEGORIES:Wedstrijden
ATTACH;FMTTYPE=image/jpeg:https://www.stormvogelsveendam.nl/wp-content/uploads/2018/10/Borgerswold-Classic-2018-4.jpg
END:VEVENT
BEGIN:VEVENT
DTSTART;TZID=UTC:20190526T153000
DTEND;TZID=UTC:20190526T180000
DTSTAMP:20260425T200217
CREATED:20180724T164042Z
LAST-MODIFIED:20191004T195648Z
UID:748-1558884600-1558893600@www.stormvogelsveendam.nl
SUMMARY:Criterium Amateurs
DESCRIPTION:
URL:https://www.stormvogelsveendam.nl/kalender/criterium-amateurs/
CATEGORIES:Wedstrijden
END:VEVENT
BEGIN:VEVENT
DTSTART;TZID=UTC:20190526T100000
DTEND;TZID=UTC:20190526T160000
DTSTAMP:20260425T200217
CREATED:20180514T141523Z
LAST-MODIFIED:20191004T195717Z
UID:552-1558864800-1558886400@www.stormvogelsveendam.nl
SUMMARY:Jeugdronde Veendam
DESCRIPTION:
URL:https://www.stormvogelsveendam.nl/kalender/2e-jeugdronde-veendam/
CATEGORIES:Wedstrijden
END:VEVENT
BEGIN:VEVENT
DTSTART;TZID=UTC:20190406T130000
DTEND;TZID=UTC:20190406T170000
DTSTAMP:20260425T200217
CREATED:20180724T133532Z
LAST-MODIFIED:20191004T195732Z
UID:736-1554555600-1554570000@www.stormvogelsveendam.nl
SUMMARY:Grote Omloop van de Veenkoloniën
DESCRIPTION:
URL:https://www.stormvogelsveendam.nl/kalender/grote-omloop-van-de-veenkolonien/
CATEGORIES:Wedstrijden
END:VEVENT
BEGIN:VEVENT
DTSTART;TZID=UTC:20190106T100000
DTEND;TZID=UTC:20190106T153000
DTSTAMP:20260425T200217
CREATED:20180724T163308Z
LAST-MODIFIED:20191004T195755Z
UID:741-1546768800-1546788600@www.stormvogelsveendam.nl
SUMMARY:ICW Borgerswold wintereditie
DESCRIPTION:
URL:https://www.stormvogelsveendam.nl/kalender/icw-borgerswold-wintereditie/
CATEGORIES:Wedstrijden
END:VEVENT
BEGIN:VEVENT
DTSTART;VALUE=DATE:20181007
DTEND;VALUE=DATE:20181008
DTSTAMP:20260425T200217
CREATED:20180514T141843Z
LAST-MODIFIED:20191004T195824Z
UID:566-1538870400-1538956799@www.stormvogelsveendam.nl
SUMMARY:Zechstein Borgerswold Classic
DESCRIPTION:
URL:https://www.stormvogelsveendam.nl/kalender/borgerswold-classic/
CATEGORIES:Wedstrijden
END:VEVENT
BEGIN:VEVENT
DTSTART;VALUE=DATE:20180901
DTEND;VALUE=DATE:20180902
DTSTAMP:20260425T200217
CREATED:20180514T141724Z
LAST-MODIFIED:20191004T195835Z
UID:560-1535760000-1535846399@www.stormvogelsveendam.nl
SUMMARY:Kleine Omloop van de Veenkoloniën / EnergyStock
DESCRIPTION:
URL:https://www.stormvogelsveendam.nl/kalender/kleine-omloop-van-de-veenkolonien-energystock/
CATEGORIES:Wedstrijden
END:VEVENT
END:VCALENDAR